BEGIN:VCALENDAR
VERSION:2.0
PRODID:-//خدمة تلاميذ الرب - ECPv6.0.13.1//NONSGML v1.0//EN
CALSCALE:GREGORIAN
METHOD:PUBLISH
X-WR-CALNAME:خدمة تلاميذ الرب
X-ORIGINAL-URL:https://disciplesofthelord.com
X-WR-CALDESC:Events for خدمة تلاميذ الرب
REFRESH-INTERVAL;VALUE=DURATION:PT1H
X-Robots-Tag:noindex
X-PUBLISHED-TTL:PT1H
BEGIN:VTIMEZONE
TZID:UTC
BEGIN:STANDARD
TZOFFSETFROM:+0000
TZOFFSETTO:+0000
TZNAME:UTC
DTSTART:20240101T000000
END:STANDARD
END:VTIMEZONE
BEGIN:VEVENT
DTSTART;TZID=UTC:20240411T120000
DTEND;TZID=UTC:20240413T170000
DTSTAMP:20260422T031351
CREATED:20240314T203326Z
LAST-MODIFIED:20240314T203807Z
UID:21468-1712836800-1713027600@disciplesofthelord.com
SUMMARY:مؤتمر الساهرين
DESCRIPTION:بندعوكم لمؤتمر “الساهرين”\nلأننا نؤمن إنه زمن يقظة للكنيسة، زمن صحوة وسهر في انتظار مجيء العريس.\nبندعوكم للانضمام للفرصة دي، اللي فيها بنؤمن إننا هنسترجع حياة السهر والثبات والرجولة الروحية اللي الرب يسوع طلبها من عروسه الكنيسة.\n 
URL:https://disciplesofthelord.com/events/%d9%85%d8%a4%d8%aa%d9%85%d8%b1-%d8%a7%d9%84%d8%b3%d8%a7%d9%87%d8%b1%d9%8a%d9%86/
LOCATION:بيت السيدة العذراء بالفاروقية\, - بني مزار\, المنيا\, Egypt
CATEGORIES:مؤتمرات
ORGANIZER;CN="%D8%AE%D8%AF%D9%85%D8%A9%20%D8%AA%D9%84%D8%A7%D9%85%D9%8A%D8%B0%20%D8%A7%D9%84%D8%B1%D8%A8":MAILTO:info@disciplesofthelord.com
END:VEVENT
END:VCALENDAR